BEGIN:VCALENDAR
VERSION:2.0
PRODID:-//Herbae, cochons millésimes - ECPv6.15.20//NONSGML v1.0//EN
CALSCALE:GREGORIAN
METHOD:PUBLISH
X-ORIGINAL-URL:https://www.herbae.fr
X-WR-CALDESC:Évènements pour Herbae, cochons millésimes
REFRESH-INTERVAL;VALUE=DURATION:PT1H
X-Robots-Tag:noindex
X-PUBLISHED-TTL:PT1H
BEGIN:VTIMEZONE
TZID:Europe/Paris
BEGIN:DAYLIGHT
TZOFFSETFROM:+0100
TZOFFSETTO:+0200
TZNAME:CEST
DTSTART:20250330T010000
END:DAYLIGHT
BEGIN:STANDARD
TZOFFSETFROM:+0200
TZOFFSETTO:+0100
TZNAME:CET
DTSTART:20251026T010000
END:STANDARD
BEGIN:DAYLIGHT
TZOFFSETFROM:+0100
TZOFFSETTO:+0200
TZNAME:CEST
DTSTART:20260329T010000
END:DAYLIGHT
BEGIN:STANDARD
TZOFFSETFROM:+0200
TZOFFSETTO:+0100
TZNAME:CET
DTSTART:20261025T010000
END:STANDARD
BEGIN:DAYLIGHT
TZOFFSETFROM:+0100
TZOFFSETTO:+0200
TZNAME:CEST
DTSTART:20270328T010000
END:DAYLIGHT
BEGIN:STANDARD
TZOFFSETFROM:+0200
TZOFFSETTO:+0100
TZNAME:CET
DTSTART:20271031T010000
END:STANDARD
END:VTIMEZONE
BEGIN:VEVENT
DTSTART;VALUE=DATE:20260328
DTEND;VALUE=DATE:20260330
DTSTAMP:20260421T135505
CREATED:20260302T170438Z
LAST-MODIFIED:20260302T170438Z
UID:10007091-1774656000-1774828799@www.herbae.fr
SUMMARY:Marchés des producteurs de Pays - Paris 16ème - Rue Gros Mars 2026
DESCRIPTION:Marché de producteurs de pays Bienvenue à la Ferme – vente directe au plein coeur de Paris – Rue Gros (Paris 16)
URL:https://www.herbae.fr/evenement/marches-des-producteurs-de-pays-paris-16eme-rue-gros-mars-2026/
LOCATION:Rue Gros Paris 16\, Rue Gros\, Paris\, 75016
CATEGORIES:Marché de producteurs Paris
ATTACH;FMTTYPE=image/jpeg:https://www.herbae.fr/wp-content/uploads/2026/03/67db2708b7dcf157870924.jpg
END:VEVENT
END:VCALENDAR