BEGIN:VCALENDAR
VERSION:2.0
PRODID:-//Herbae, cochons millésimes - ECPv6.15.18//NONSGML v1.0//EN
CALSCALE:GREGORIAN
METHOD:PUBLISH
X-ORIGINAL-URL:https://www.herbae.fr
X-WR-CALDESC:Évènements pour Herbae, cochons millésimes
REFRESH-INTERVAL;VALUE=DURATION:PT1H
X-Robots-Tag:noindex
X-PUBLISHED-TTL:PT1H
BEGIN:VTIMEZONE
TZID:Europe/Paris
BEGIN:DAYLIGHT
TZOFFSETFROM:+0100
TZOFFSETTO:+0200
TZNAME:CEST
DTSTART:20210328T010000
END:DAYLIGHT
BEGIN:STANDARD
TZOFFSETFROM:+0200
TZOFFSETTO:+0100
TZNAME:CET
DTSTART:20211031T010000
END:STANDARD
BEGIN:DAYLIGHT
TZOFFSETFROM:+0100
TZOFFSETTO:+0200
TZNAME:CEST
DTSTART:20220327T010000
END:DAYLIGHT
BEGIN:STANDARD
TZOFFSETFROM:+0200
TZOFFSETTO:+0100
TZNAME:CET
DTSTART:20221030T010000
END:STANDARD
BEGIN:DAYLIGHT
TZOFFSETFROM:+0100
TZOFFSETTO:+0200
TZNAME:CEST
DTSTART:20230326T010000
END:DAYLIGHT
BEGIN:STANDARD
TZOFFSETFROM:+0200
TZOFFSETTO:+0100
TZNAME:CET
DTSTART:20231029T010000
END:STANDARD
BEGIN:DAYLIGHT
TZOFFSETFROM:+0100
TZOFFSETTO:+0200
TZNAME:CEST
DTSTART:20240331T010000
END:DAYLIGHT
BEGIN:STANDARD
TZOFFSETFROM:+0200
TZOFFSETTO:+0100
TZNAME:CET
DTSTART:20241027T010000
END:STANDARD
BEGIN:DAYLIGHT
TZOFFSETFROM:+0100
TZOFFSETTO:+0200
TZNAME:CEST
DTSTART:20250330T010000
END:DAYLIGHT
BEGIN:STANDARD
TZOFFSETFROM:+0200
TZOFFSETTO:+0100
TZNAME:CET
DTSTART:20251026T010000
END:STANDARD
BEGIN:DAYLIGHT
TZOFFSETFROM:+0100
TZOFFSETTO:+0200
TZNAME:CEST
DTSTART:20260329T010000
END:DAYLIGHT
BEGIN:STANDARD
TZOFFSETFROM:+0200
TZOFFSETTO:+0100
TZNAME:CET
DTSTART:20261025T010000
END:STANDARD
END:VTIMEZONE
BEGIN:VEVENT
DTSTART;VALUE=DATE:20251212
DTEND;VALUE=DATE:20251215
DTSTAMP:20260420T170339
CREATED:20251106T103037Z
LAST-MODIFIED:20251106T124142Z
UID:10007082-1765497600-1765756799@www.herbae.fr
SUMMARY:PARI FERMIER - Village des Terroirs de VANVES - Décembre 2025
DESCRIPTION:Marché de Noël – Village des terroirs de Vanves organisé par l’association PARI FERMIER et la Mairie de Vanves
URL:https://www.herbae.fr/evenement/pari-fermier-village-des-terroirs-de-vanves-decembre-2025/
LOCATION:Place de la République – Vanves
CATEGORIES:Marché de producteurs Paris
ATTACH;FMTTYPE=image/jpeg:https://www.herbae.fr/wp-content/uploads/2025/11/VILLAGE-DES-TERROIRS-AVEC-PARI-FERMIER.jpg
END:VEVENT
BEGIN:VEVENT
DTSTART;VALUE=DATE:20241213
DTEND;VALUE=DATE:20241216
DTSTAMP:20260420T170339
CREATED:20240930T092222Z
LAST-MODIFIED:20240930T100205Z
UID:10005626-1734048000-1734307199@www.herbae.fr
SUMMARY:PARI FERMIER - Village des Terroirs de VANVES - Décembre 2024
DESCRIPTION:Marché de Noël – Village des terroirs de Vanves organisé par l’association PARI FERMIER et la Mairie de Vanves
URL:https://www.herbae.fr/evenement/pari-fermier-village-des-terroirs-de-vanves-decembre-2024/
LOCATION:Place de la République – Vanves
CATEGORIES:Marché de producteurs Paris
END:VEVENT
BEGIN:VEVENT
DTSTART;VALUE=DATE:20231216
DTEND;VALUE=DATE:20231218
DTSTAMP:20260420T170339
CREATED:20231019T080407Z
LAST-MODIFIED:20231019T084750Z
UID:10002974-1702684800-1702857599@www.herbae.fr
SUMMARY:Village des Terroirs de Vanves - PARI FERMIER - Décembre 2023
DESCRIPTION:Marché de Noël – Village des terroirs de Vanves organisé par l’association PARI FERMIER et la Mairie de Vanves
URL:https://www.herbae.fr/evenement/village-des-terroirs-de-vanves-pari-fermier-decembre-2023/
LOCATION:Place de la République – Vanves
CATEGORIES:Marché de producteurs Paris
ATTACH;FMTTYPE=image/jpeg:https://www.herbae.fr/wp-content/uploads/2023/10/village-des-terroirs-vanves-2023-pari-fermier.jpg
END:VEVENT
BEGIN:VEVENT
DTSTART;VALUE=DATE:20221209
DTEND;VALUE=DATE:20221212
DTSTAMP:20260420T170339
CREATED:20221208T135908Z
LAST-MODIFIED:20221208T135908Z
UID:10000505-1670544000-1670803199@www.herbae.fr
SUMMARY:Village des Terroirs de Vanves
DESCRIPTION:
URL:https://www.herbae.fr/evenement/village-des-terroirs-de-vanves/
LOCATION:Place de la République – Vanves
END:VEVENT
END:VCALENDAR