BEGIN:VCALENDAR
VERSION:2.0
PRODID:-//Herbae, cochons millésimes - ECPv6.15.20//NONSGML v1.0//EN
CALSCALE:GREGORIAN
METHOD:PUBLISH
X-WR-CALNAME:Herbae, cochons millésimes
X-ORIGINAL-URL:https://www.herbae.fr
X-WR-CALDESC:Évènements pour Herbae, cochons millésimes
REFRESH-INTERVAL;VALUE=DURATION:PT1H
X-Robots-Tag:noindex
X-PUBLISHED-TTL:PT1H
BEGIN:VTIMEZONE
TZID:Europe/Paris
BEGIN:DAYLIGHT
TZOFFSETFROM:+0100
TZOFFSETTO:+0200
TZNAME:CEST
DTSTART:20250330T010000
END:DAYLIGHT
BEGIN:STANDARD
TZOFFSETFROM:+0200
TZOFFSETTO:+0100
TZNAME:CET
DTSTART:20251026T010000
END:STANDARD
BEGIN:DAYLIGHT
TZOFFSETFROM:+0100
TZOFFSETTO:+0200
TZNAME:CEST
DTSTART:20260329T010000
END:DAYLIGHT
BEGIN:STANDARD
TZOFFSETFROM:+0200
TZOFFSETTO:+0100
TZNAME:CET
DTSTART:20261025T010000
END:STANDARD
BEGIN:DAYLIGHT
TZOFFSETFROM:+0100
TZOFFSETTO:+0200
TZNAME:CEST
DTSTART:20270328T010000
END:DAYLIGHT
BEGIN:STANDARD
TZOFFSETFROM:+0200
TZOFFSETTO:+0100
TZNAME:CET
DTSTART:20271031T010000
END:STANDARD
END:VTIMEZONE
BEGIN:VEVENT
DTSTART;TZID=Europe/Paris:20260801T080000
DTEND;TZID=Europe/Paris:20260801T130000
DTSTAMP:20260425T180834
CREATED:20221226T084326Z
LAST-MODIFIED:20250123T093137Z
UID:10002853-1785571200-1785589200@www.herbae.fr
SUMMARY:Marché de Bagnères-de-Bigorre
DESCRIPTION:
URL:https://www.herbae.fr/evenement/marche-de-bagneres-de-bigorre/2026-08-01/
LOCATION:Marché de Bagnères-de-Bigorre\, Rue du 19 mars 1962\, Bagnères-de-Bigorre\, 65200\, France
CATEGORIES:Marché Hautes-Pyrénées,Marchés d'été
ATTACH;FMTTYPE=image/jpeg:https://www.herbae.fr/wp-content/uploads/2022/12/Marche-de-Bagneres-de-Bigorre-Samedi-Matin-8h-13h.jpg
GEO:43.1260823;0.106357
X-APPLE-STRUCTURED-LOCATION;VALUE=URI;X-ADDRESS=Marché de Bagnères-de-Bigorre Rue du 19 mars 1962 Bagnères-de-Bigorre 65200 France;X-APPLE-RADIUS=500;X-TITLE=Rue du 19 mars 1962:geo:0.106357,43.1260823
END:VEVENT
BEGIN:VEVENT
DTSTART;TZID=Europe/Paris:20260801T080000
DTEND;TZID=Europe/Paris:20260801T130000
DTSTAMP:20260425T180834
CREATED:20230414T094744Z
LAST-MODIFIED:20250716T093244Z
UID:10006057-1785571200-1785589200@www.herbae.fr
SUMMARY:Marché de Saint-Lary-Soulan
DESCRIPTION:
URL:https://www.herbae.fr/evenement/marche-de-saint-lary-soulan-2/2026-08-01/
LOCATION:marché de Saint-Lary-Soulan\, Place du téléphérique\, Saint-Lary-Soulan\, 65170\, France
CATEGORIES:Marché Hautes-Pyrénées,Marchés d'été
ATTACH;FMTTYPE=image/jpeg:https://www.herbae.fr/wp-content/uploads/2023/04/Design-sans-titre.jpg
GEO:42.8158803;0.3192769
X-APPLE-STRUCTURED-LOCATION;VALUE=URI;X-ADDRESS=marché de Saint-Lary-Soulan Place du téléphérique Saint-Lary-Soulan 65170 France;X-APPLE-RADIUS=500;X-TITLE=Place du téléphérique:geo:0.3192769,42.8158803
END:VEVENT
BEGIN:VEVENT
DTSTART;TZID=Europe/Paris:20260808T080000
DTEND;TZID=Europe/Paris:20260808T130000
DTSTAMP:20260425T180834
CREATED:20221226T084326Z
LAST-MODIFIED:20250123T093137Z
UID:10002854-1786176000-1786194000@www.herbae.fr
SUMMARY:Marché de Bagnères-de-Bigorre
DESCRIPTION:
URL:https://www.herbae.fr/evenement/marche-de-bagneres-de-bigorre/2026-08-08/
LOCATION:Marché de Bagnères-de-Bigorre\, Rue du 19 mars 1962\, Bagnères-de-Bigorre\, 65200\, France
CATEGORIES:Marché Hautes-Pyrénées,Marchés d'été
ATTACH;FMTTYPE=image/jpeg:https://www.herbae.fr/wp-content/uploads/2022/12/Marche-de-Bagneres-de-Bigorre-Samedi-Matin-8h-13h.jpg
GEO:43.1260823;0.106357
X-APPLE-STRUCTURED-LOCATION;VALUE=URI;X-ADDRESS=Marché de Bagnères-de-Bigorre Rue du 19 mars 1962 Bagnères-de-Bigorre 65200 France;X-APPLE-RADIUS=500;X-TITLE=Rue du 19 mars 1962:geo:0.106357,43.1260823
END:VEVENT
BEGIN:VEVENT
DTSTART;TZID=Europe/Paris:20260808T080000
DTEND;TZID=Europe/Paris:20260808T130000
DTSTAMP:20260425T180834
CREATED:20230414T094744Z
LAST-MODIFIED:20250716T093244Z
UID:10002619-1786176000-1786194000@www.herbae.fr
SUMMARY:Marché de Saint-Lary-Soulan
DESCRIPTION:
URL:https://www.herbae.fr/evenement/marche-de-saint-lary-soulan-2/2026-08-08/
LOCATION:marché de Saint-Lary-Soulan\, Place du téléphérique\, Saint-Lary-Soulan\, 65170\, France
CATEGORIES:Marché Hautes-Pyrénées,Marchés d'été
ATTACH;FMTTYPE=image/jpeg:https://www.herbae.fr/wp-content/uploads/2023/04/Design-sans-titre.jpg
GEO:42.8158803;0.3192769
X-APPLE-STRUCTURED-LOCATION;VALUE=URI;X-ADDRESS=marché de Saint-Lary-Soulan Place du téléphérique Saint-Lary-Soulan 65170 France;X-APPLE-RADIUS=500;X-TITLE=Place du téléphérique:geo:0.3192769,42.8158803
END:VEVENT
BEGIN:VEVENT
DTSTART;TZID=Europe/Paris:20260815T080000
DTEND;TZID=Europe/Paris:20260815T130000
DTSTAMP:20260425T180834
CREATED:20221226T084326Z
LAST-MODIFIED:20250123T093137Z
UID:10002855-1786780800-1786798800@www.herbae.fr
SUMMARY:Marché de Bagnères-de-Bigorre
DESCRIPTION:
URL:https://www.herbae.fr/evenement/marche-de-bagneres-de-bigorre/2026-08-15/
LOCATION:Marché de Bagnères-de-Bigorre\, Rue du 19 mars 1962\, Bagnères-de-Bigorre\, 65200\, France
CATEGORIES:Marché Hautes-Pyrénées,Marchés d'été
ATTACH;FMTTYPE=image/jpeg:https://www.herbae.fr/wp-content/uploads/2022/12/Marche-de-Bagneres-de-Bigorre-Samedi-Matin-8h-13h.jpg
GEO:43.1260823;0.106357
X-APPLE-STRUCTURED-LOCATION;VALUE=URI;X-ADDRESS=Marché de Bagnères-de-Bigorre Rue du 19 mars 1962 Bagnères-de-Bigorre 65200 France;X-APPLE-RADIUS=500;X-TITLE=Rue du 19 mars 1962:geo:0.106357,43.1260823
END:VEVENT
BEGIN:VEVENT
DTSTART;TZID=Europe/Paris:20260815T080000
DTEND;TZID=Europe/Paris:20260815T130000
DTSTAMP:20260425T180834
CREATED:20230414T094744Z
LAST-MODIFIED:20250716T093244Z
UID:10006058-1786780800-1786798800@www.herbae.fr
SUMMARY:Marché de Saint-Lary-Soulan
DESCRIPTION:
URL:https://www.herbae.fr/evenement/marche-de-saint-lary-soulan-2/2026-08-15/
LOCATION:marché de Saint-Lary-Soulan\, Place du téléphérique\, Saint-Lary-Soulan\, 65170\, France
CATEGORIES:Marché Hautes-Pyrénées,Marchés d'été
ATTACH;FMTTYPE=image/jpeg:https://www.herbae.fr/wp-content/uploads/2023/04/Design-sans-titre.jpg
GEO:42.8158803;0.3192769
X-APPLE-STRUCTURED-LOCATION;VALUE=URI;X-ADDRESS=marché de Saint-Lary-Soulan Place du téléphérique Saint-Lary-Soulan 65170 France;X-APPLE-RADIUS=500;X-TITLE=Place du téléphérique:geo:0.3192769,42.8158803
END:VEVENT
BEGIN:VEVENT
DTSTART;TZID=Europe/Paris:20260822T080000
DTEND;TZID=Europe/Paris:20260822T130000
DTSTAMP:20260425T180834
CREATED:20221226T084326Z
LAST-MODIFIED:20250123T093137Z
UID:10002856-1787385600-1787403600@www.herbae.fr
SUMMARY:Marché de Bagnères-de-Bigorre
DESCRIPTION:
URL:https://www.herbae.fr/evenement/marche-de-bagneres-de-bigorre/2026-08-22/
LOCATION:Marché de Bagnères-de-Bigorre\, Rue du 19 mars 1962\, Bagnères-de-Bigorre\, 65200\, France
CATEGORIES:Marché Hautes-Pyrénées,Marchés d'été
ATTACH;FMTTYPE=image/jpeg:https://www.herbae.fr/wp-content/uploads/2022/12/Marche-de-Bagneres-de-Bigorre-Samedi-Matin-8h-13h.jpg
GEO:43.1260823;0.106357
X-APPLE-STRUCTURED-LOCATION;VALUE=URI;X-ADDRESS=Marché de Bagnères-de-Bigorre Rue du 19 mars 1962 Bagnères-de-Bigorre 65200 France;X-APPLE-RADIUS=500;X-TITLE=Rue du 19 mars 1962:geo:0.106357,43.1260823
END:VEVENT
BEGIN:VEVENT
DTSTART;TZID=Europe/Paris:20260822T080000
DTEND;TZID=Europe/Paris:20260822T130000
DTSTAMP:20260425T180834
CREATED:20230414T094744Z
LAST-MODIFIED:20250716T093244Z
UID:10002621-1787385600-1787403600@www.herbae.fr
SUMMARY:Marché de Saint-Lary-Soulan
DESCRIPTION:
URL:https://www.herbae.fr/evenement/marche-de-saint-lary-soulan-2/2026-08-22/
LOCATION:marché de Saint-Lary-Soulan\, Place du téléphérique\, Saint-Lary-Soulan\, 65170\, France
CATEGORIES:Marché Hautes-Pyrénées,Marchés d'été
ATTACH;FMTTYPE=image/jpeg:https://www.herbae.fr/wp-content/uploads/2023/04/Design-sans-titre.jpg
GEO:42.8158803;0.3192769
X-APPLE-STRUCTURED-LOCATION;VALUE=URI;X-ADDRESS=marché de Saint-Lary-Soulan Place du téléphérique Saint-Lary-Soulan 65170 France;X-APPLE-RADIUS=500;X-TITLE=Place du téléphérique:geo:0.3192769,42.8158803
END:VEVENT
BEGIN:VEVENT
DTSTART;TZID=Europe/Paris:20260829T080000
DTEND;TZID=Europe/Paris:20260829T130000
DTSTAMP:20260425T180834
CREATED:20221226T084326Z
LAST-MODIFIED:20250123T093137Z
UID:10002857-1787990400-1788008400@www.herbae.fr
SUMMARY:Marché de Bagnères-de-Bigorre
DESCRIPTION:
URL:https://www.herbae.fr/evenement/marche-de-bagneres-de-bigorre/2026-08-29/
LOCATION:Marché de Bagnères-de-Bigorre\, Rue du 19 mars 1962\, Bagnères-de-Bigorre\, 65200\, France
CATEGORIES:Marché Hautes-Pyrénées,Marchés d'été
ATTACH;FMTTYPE=image/jpeg:https://www.herbae.fr/wp-content/uploads/2022/12/Marche-de-Bagneres-de-Bigorre-Samedi-Matin-8h-13h.jpg
GEO:43.1260823;0.106357
X-APPLE-STRUCTURED-LOCATION;VALUE=URI;X-ADDRESS=Marché de Bagnères-de-Bigorre Rue du 19 mars 1962 Bagnères-de-Bigorre 65200 France;X-APPLE-RADIUS=500;X-TITLE=Rue du 19 mars 1962:geo:0.106357,43.1260823
END:VEVENT
BEGIN:VEVENT
DTSTART;TZID=Europe/Paris:20260829T080000
DTEND;TZID=Europe/Paris:20260829T130000
DTSTAMP:20260425T180834
CREATED:20230414T094744Z
LAST-MODIFIED:20250716T093244Z
UID:10006059-1787990400-1788008400@www.herbae.fr
SUMMARY:Marché de Saint-Lary-Soulan
DESCRIPTION:
URL:https://www.herbae.fr/evenement/marche-de-saint-lary-soulan-2/2026-08-29/
LOCATION:marché de Saint-Lary-Soulan\, Place du téléphérique\, Saint-Lary-Soulan\, 65170\, France
CATEGORIES:Marché Hautes-Pyrénées,Marchés d'été
ATTACH;FMTTYPE=image/jpeg:https://www.herbae.fr/wp-content/uploads/2023/04/Design-sans-titre.jpg
GEO:42.8158803;0.3192769
X-APPLE-STRUCTURED-LOCATION;VALUE=URI;X-ADDRESS=marché de Saint-Lary-Soulan Place du téléphérique Saint-Lary-Soulan 65170 France;X-APPLE-RADIUS=500;X-TITLE=Place du téléphérique:geo:0.3192769,42.8158803
END:VEVENT
END:VCALENDAR