BEGIN:VCALENDAR
VERSION:2.0
PRODID:-//Herbae, cochons millésimes - ECPv6.15.20//NONSGML v1.0//EN
CALSCALE:GREGORIAN
METHOD:PUBLISH
X-ORIGINAL-URL:https://www.herbae.fr
X-WR-CALDESC:Évènements pour Herbae, cochons millésimes
REFRESH-INTERVAL;VALUE=DURATION:PT1H
X-Robots-Tag:noindex
X-PUBLISHED-TTL:PT1H
BEGIN:VTIMEZONE
TZID:Europe/Paris
BEGIN:DAYLIGHT
TZOFFSETFROM:+0100
TZOFFSETTO:+0200
TZNAME:CEST
DTSTART:20250330T010000
END:DAYLIGHT
BEGIN:STANDARD
TZOFFSETFROM:+0200
TZOFFSETTO:+0100
TZNAME:CET
DTSTART:20251026T010000
END:STANDARD
BEGIN:DAYLIGHT
TZOFFSETFROM:+0100
TZOFFSETTO:+0200
TZNAME:CEST
DTSTART:20260329T010000
END:DAYLIGHT
BEGIN:STANDARD
TZOFFSETFROM:+0200
TZOFFSETTO:+0100
TZNAME:CET
DTSTART:20261025T010000
END:STANDARD
BEGIN:DAYLIGHT
TZOFFSETFROM:+0100
TZOFFSETTO:+0200
TZNAME:CEST
DTSTART:20270328T010000
END:DAYLIGHT
BEGIN:STANDARD
TZOFFSETFROM:+0200
TZOFFSETTO:+0100
TZNAME:CET
DTSTART:20271031T010000
END:STANDARD
END:VTIMEZONE
BEGIN:VEVENT
DTSTART;TZID=Europe/Paris:20260425T080000
DTEND;TZID=Europe/Paris:20260425T130000
DTSTAMP:20260423T092259
CREATED:20221226T084326Z
LAST-MODIFIED:20250123T093137Z
UID:10002839-1777104000-1777122000@www.herbae.fr
SUMMARY:Marché de Bagnères-de-Bigorre
DESCRIPTION:
URL:https://www.herbae.fr/evenement/marche-de-bagneres-de-bigorre/2026-04-25/
LOCATION:Marché de Bagnères-de-Bigorre\, Rue du 19 mars 1962\, Bagnères-de-Bigorre\, 65200\, France
CATEGORIES:Marché Hautes-Pyrénées,Marchés d'été
ATTACH;FMTTYPE=image/jpeg:https://www.herbae.fr/wp-content/uploads/2022/12/Marche-de-Bagneres-de-Bigorre-Samedi-Matin-8h-13h.jpg
GEO:43.1260823;0.106357
X-APPLE-STRUCTURED-LOCATION;VALUE=URI;X-ADDRESS=Marché de Bagnères-de-Bigorre Rue du 19 mars 1962 Bagnères-de-Bigorre 65200 France;X-APPLE-RADIUS=500;X-TITLE=Rue du 19 mars 1962:geo:0.106357,43.1260823
END:VEVENT
BEGIN:VEVENT
DTSTART;TZID=Europe/Paris:20260425T080000
DTEND;TZID=Europe/Paris:20260425T130000
DTSTAMP:20260423T092259
CREATED:20230414T094744Z
LAST-MODIFIED:20250716T093244Z
UID:10006050-1777104000-1777122000@www.herbae.fr
SUMMARY:Marché de Saint-Lary-Soulan
DESCRIPTION:
URL:https://www.herbae.fr/evenement/marche-de-saint-lary-soulan-2/2026-04-25/
LOCATION:marché de Saint-Lary-Soulan\, Place du téléphérique\, Saint-Lary-Soulan\, 65170\, France
CATEGORIES:Marché Hautes-Pyrénées,Marchés d'été
ATTACH;FMTTYPE=image/jpeg:https://www.herbae.fr/wp-content/uploads/2023/04/Design-sans-titre.jpg
GEO:42.8158803;0.3192769
X-APPLE-STRUCTURED-LOCATION;VALUE=URI;X-ADDRESS=marché de Saint-Lary-Soulan Place du téléphérique Saint-Lary-Soulan 65170 France;X-APPLE-RADIUS=500;X-TITLE=Place du téléphérique:geo:0.3192769,42.8158803
END:VEVENT
BEGIN:VEVENT
DTSTART;TZID=Europe/Paris:20260502T080000
DTEND;TZID=Europe/Paris:20260502T130000
DTSTAMP:20260423T092259
CREATED:20221226T084326Z
LAST-MODIFIED:20250123T093137Z
UID:10002840-1777708800-1777726800@www.herbae.fr
SUMMARY:Marché de Bagnères-de-Bigorre
DESCRIPTION:
URL:https://www.herbae.fr/evenement/marche-de-bagneres-de-bigorre/2026-05-02/
LOCATION:Marché de Bagnères-de-Bigorre\, Rue du 19 mars 1962\, Bagnères-de-Bigorre\, 65200\, France
CATEGORIES:Marché Hautes-Pyrénées,Marchés d'été
ATTACH;FMTTYPE=image/jpeg:https://www.herbae.fr/wp-content/uploads/2022/12/Marche-de-Bagneres-de-Bigorre-Samedi-Matin-8h-13h.jpg
GEO:43.1260823;0.106357
X-APPLE-STRUCTURED-LOCATION;VALUE=URI;X-ADDRESS=Marché de Bagnères-de-Bigorre Rue du 19 mars 1962 Bagnères-de-Bigorre 65200 France;X-APPLE-RADIUS=500;X-TITLE=Rue du 19 mars 1962:geo:0.106357,43.1260823
END:VEVENT
BEGIN:VEVENT
DTSTART;TZID=Europe/Paris:20260502T080000
DTEND;TZID=Europe/Paris:20260502T130000
DTSTAMP:20260423T092259
CREATED:20230414T094744Z
LAST-MODIFIED:20250716T093244Z
UID:10002605-1777708800-1777726800@www.herbae.fr
SUMMARY:Marché de Saint-Lary-Soulan
DESCRIPTION:
URL:https://www.herbae.fr/evenement/marche-de-saint-lary-soulan-2/2026-05-02/
LOCATION:marché de Saint-Lary-Soulan\, Place du téléphérique\, Saint-Lary-Soulan\, 65170\, France
CATEGORIES:Marché Hautes-Pyrénées,Marchés d'été
ATTACH;FMTTYPE=image/jpeg:https://www.herbae.fr/wp-content/uploads/2023/04/Design-sans-titre.jpg
GEO:42.8158803;0.3192769
X-APPLE-STRUCTURED-LOCATION;VALUE=URI;X-ADDRESS=marché de Saint-Lary-Soulan Place du téléphérique Saint-Lary-Soulan 65170 France;X-APPLE-RADIUS=500;X-TITLE=Place du téléphérique:geo:0.3192769,42.8158803
END:VEVENT
BEGIN:VEVENT
DTSTART;VALUE=DATE:20260508
DTEND;VALUE=DATE:20260511
DTSTAMP:20260423T092259
CREATED:20260302T172217Z
LAST-MODIFIED:20260302T172217Z
UID:10007094-1778198400-1778457599@www.herbae.fr
SUMMARY:PARI FERMIER - Bergerie Nationale de Rambouillet Mai 2026
DESCRIPTION:Marché de producteurs de l’association Pari Fermier à la Bergerie Nationale de Rambouillet (78) – 3 jours au coeur de la Bergerie pour découvrir les produits du terroir et les animaux de la bergerie.
URL:https://www.herbae.fr/evenement/pari-fermier-bergerie-nationale-de-rambouillet-mai-2026/
LOCATION:Bergerie Nationale de Rambouillet\, Bergerie nationale\, RAMBOUILLET\, 78120\, France
CATEGORIES:Marché de producteurs Paris
ATTACH;FMTTYPE=image/jpeg:https://www.herbae.fr/wp-content/uploads/2026/03/PARI-FERMIER-A-LA-BERGERIE-NATIONALE-DE-RAMBOUILLET-NOV-2025-1024x1024-1.jpg
GEO:48.6463806;1.8009746
X-APPLE-STRUCTURED-LOCATION;VALUE=URI;X-ADDRESS=Bergerie Nationale de Rambouillet Bergerie nationale RAMBOUILLET 78120 France;X-APPLE-RADIUS=500;X-TITLE=Bergerie nationale:geo:1.8009746,48.6463806
END:VEVENT
BEGIN:VEVENT
DTSTART;TZID=Europe/Paris:20260509T080000
DTEND;TZID=Europe/Paris:20260509T130000
DTSTAMP:20260423T092259
CREATED:20221226T084326Z
LAST-MODIFIED:20250123T093137Z
UID:10002841-1778313600-1778331600@www.herbae.fr
SUMMARY:Marché de Bagnères-de-Bigorre
DESCRIPTION:
URL:https://www.herbae.fr/evenement/marche-de-bagneres-de-bigorre/2026-05-09/
LOCATION:Marché de Bagnères-de-Bigorre\, Rue du 19 mars 1962\, Bagnères-de-Bigorre\, 65200\, France
CATEGORIES:Marché Hautes-Pyrénées,Marchés d'été
ATTACH;FMTTYPE=image/jpeg:https://www.herbae.fr/wp-content/uploads/2022/12/Marche-de-Bagneres-de-Bigorre-Samedi-Matin-8h-13h.jpg
GEO:43.1260823;0.106357
X-APPLE-STRUCTURED-LOCATION;VALUE=URI;X-ADDRESS=Marché de Bagnères-de-Bigorre Rue du 19 mars 1962 Bagnères-de-Bigorre 65200 France;X-APPLE-RADIUS=500;X-TITLE=Rue du 19 mars 1962:geo:0.106357,43.1260823
END:VEVENT
BEGIN:VEVENT
DTSTART;TZID=Europe/Paris:20260509T080000
DTEND;TZID=Europe/Paris:20260509T130000
DTSTAMP:20260423T092259
CREATED:20230414T094744Z
LAST-MODIFIED:20250716T093244Z
UID:10006051-1778313600-1778331600@www.herbae.fr
SUMMARY:Marché de Saint-Lary-Soulan
DESCRIPTION:
URL:https://www.herbae.fr/evenement/marche-de-saint-lary-soulan-2/2026-05-09/
LOCATION:marché de Saint-Lary-Soulan\, Place du téléphérique\, Saint-Lary-Soulan\, 65170\, France
CATEGORIES:Marché Hautes-Pyrénées,Marchés d'été
ATTACH;FMTTYPE=image/jpeg:https://www.herbae.fr/wp-content/uploads/2023/04/Design-sans-titre.jpg
GEO:42.8158803;0.3192769
X-APPLE-STRUCTURED-LOCATION;VALUE=URI;X-ADDRESS=marché de Saint-Lary-Soulan Place du téléphérique Saint-Lary-Soulan 65170 France;X-APPLE-RADIUS=500;X-TITLE=Place du téléphérique:geo:0.3192769,42.8158803
END:VEVENT
BEGIN:VEVENT
DTSTART;TZID=Europe/Paris:20260516T080000
DTEND;TZID=Europe/Paris:20260516T130000
DTSTAMP:20260423T092259
CREATED:20221226T084326Z
LAST-MODIFIED:20250123T093137Z
UID:10002842-1778918400-1778936400@www.herbae.fr
SUMMARY:Marché de Bagnères-de-Bigorre
DESCRIPTION:
URL:https://www.herbae.fr/evenement/marche-de-bagneres-de-bigorre/2026-05-16/
LOCATION:Marché de Bagnères-de-Bigorre\, Rue du 19 mars 1962\, Bagnères-de-Bigorre\, 65200\, France
CATEGORIES:Marché Hautes-Pyrénées,Marchés d'été
ATTACH;FMTTYPE=image/jpeg:https://www.herbae.fr/wp-content/uploads/2022/12/Marche-de-Bagneres-de-Bigorre-Samedi-Matin-8h-13h.jpg
GEO:43.1260823;0.106357
X-APPLE-STRUCTURED-LOCATION;VALUE=URI;X-ADDRESS=Marché de Bagnères-de-Bigorre Rue du 19 mars 1962 Bagnères-de-Bigorre 65200 France;X-APPLE-RADIUS=500;X-TITLE=Rue du 19 mars 1962:geo:0.106357,43.1260823
END:VEVENT
BEGIN:VEVENT
DTSTART;TZID=Europe/Paris:20260516T080000
DTEND;TZID=Europe/Paris:20260516T130000
DTSTAMP:20260423T092259
CREATED:20230414T094744Z
LAST-MODIFIED:20250716T093244Z
UID:10002607-1778918400-1778936400@www.herbae.fr
SUMMARY:Marché de Saint-Lary-Soulan
DESCRIPTION:
URL:https://www.herbae.fr/evenement/marche-de-saint-lary-soulan-2/2026-05-16/
LOCATION:marché de Saint-Lary-Soulan\, Place du téléphérique\, Saint-Lary-Soulan\, 65170\, France
CATEGORIES:Marché Hautes-Pyrénées,Marchés d'été
ATTACH;FMTTYPE=image/jpeg:https://www.herbae.fr/wp-content/uploads/2023/04/Design-sans-titre.jpg
GEO:42.8158803;0.3192769
X-APPLE-STRUCTURED-LOCATION;VALUE=URI;X-ADDRESS=marché de Saint-Lary-Soulan Place du téléphérique Saint-Lary-Soulan 65170 France;X-APPLE-RADIUS=500;X-TITLE=Place du téléphérique:geo:0.3192769,42.8158803
END:VEVENT
BEGIN:VEVENT
DTSTART;TZID=Europe/Paris:20260523T080000
DTEND;TZID=Europe/Paris:20260523T130000
DTSTAMP:20260423T092259
CREATED:20221226T084326Z
LAST-MODIFIED:20250123T093137Z
UID:10002843-1779523200-1779541200@www.herbae.fr
SUMMARY:Marché de Bagnères-de-Bigorre
DESCRIPTION:
URL:https://www.herbae.fr/evenement/marche-de-bagneres-de-bigorre/2026-05-23/
LOCATION:Marché de Bagnères-de-Bigorre\, Rue du 19 mars 1962\, Bagnères-de-Bigorre\, 65200\, France
CATEGORIES:Marché Hautes-Pyrénées,Marchés d'été
ATTACH;FMTTYPE=image/jpeg:https://www.herbae.fr/wp-content/uploads/2022/12/Marche-de-Bagneres-de-Bigorre-Samedi-Matin-8h-13h.jpg
GEO:43.1260823;0.106357
X-APPLE-STRUCTURED-LOCATION;VALUE=URI;X-ADDRESS=Marché de Bagnères-de-Bigorre Rue du 19 mars 1962 Bagnères-de-Bigorre 65200 France;X-APPLE-RADIUS=500;X-TITLE=Rue du 19 mars 1962:geo:0.106357,43.1260823
END:VEVENT
BEGIN:VEVENT
DTSTART;TZID=Europe/Paris:20260523T080000
DTEND;TZID=Europe/Paris:20260523T130000
DTSTAMP:20260423T092259
CREATED:20230414T094744Z
LAST-MODIFIED:20250716T093244Z
UID:10006052-1779523200-1779541200@www.herbae.fr
SUMMARY:Marché de Saint-Lary-Soulan
DESCRIPTION:
URL:https://www.herbae.fr/evenement/marche-de-saint-lary-soulan-2/2026-05-23/
LOCATION:marché de Saint-Lary-Soulan\, Place du téléphérique\, Saint-Lary-Soulan\, 65170\, France
CATEGORIES:Marché Hautes-Pyrénées,Marchés d'été
ATTACH;FMTTYPE=image/jpeg:https://www.herbae.fr/wp-content/uploads/2023/04/Design-sans-titre.jpg
GEO:42.8158803;0.3192769
X-APPLE-STRUCTURED-LOCATION;VALUE=URI;X-ADDRESS=marché de Saint-Lary-Soulan Place du téléphérique Saint-Lary-Soulan 65170 France;X-APPLE-RADIUS=500;X-TITLE=Place du téléphérique:geo:0.3192769,42.8158803
END:VEVENT
BEGIN:VEVENT
DTSTART;TZID=Europe/Paris:20260530T080000
DTEND;TZID=Europe/Paris:20260530T130000
DTSTAMP:20260423T092259
CREATED:20221226T084326Z
LAST-MODIFIED:20250123T093137Z
UID:10002844-1780128000-1780146000@www.herbae.fr
SUMMARY:Marché de Bagnères-de-Bigorre
DESCRIPTION:
URL:https://www.herbae.fr/evenement/marche-de-bagneres-de-bigorre/2026-05-30/
LOCATION:Marché de Bagnères-de-Bigorre\, Rue du 19 mars 1962\, Bagnères-de-Bigorre\, 65200\, France
CATEGORIES:Marché Hautes-Pyrénées,Marchés d'été
ATTACH;FMTTYPE=image/jpeg:https://www.herbae.fr/wp-content/uploads/2022/12/Marche-de-Bagneres-de-Bigorre-Samedi-Matin-8h-13h.jpg
GEO:43.1260823;0.106357
X-APPLE-STRUCTURED-LOCATION;VALUE=URI;X-ADDRESS=Marché de Bagnères-de-Bigorre Rue du 19 mars 1962 Bagnères-de-Bigorre 65200 France;X-APPLE-RADIUS=500;X-TITLE=Rue du 19 mars 1962:geo:0.106357,43.1260823
END:VEVENT
BEGIN:VEVENT
DTSTART;TZID=Europe/Paris:20260530T080000
DTEND;TZID=Europe/Paris:20260530T130000
DTSTAMP:20260423T092259
CREATED:20230414T094744Z
LAST-MODIFIED:20250716T093244Z
UID:10002609-1780128000-1780146000@www.herbae.fr
SUMMARY:Marché de Saint-Lary-Soulan
DESCRIPTION:
URL:https://www.herbae.fr/evenement/marche-de-saint-lary-soulan-2/2026-05-30/
LOCATION:marché de Saint-Lary-Soulan\, Place du téléphérique\, Saint-Lary-Soulan\, 65170\, France
CATEGORIES:Marché Hautes-Pyrénées,Marchés d'été
ATTACH;FMTTYPE=image/jpeg:https://www.herbae.fr/wp-content/uploads/2023/04/Design-sans-titre.jpg
GEO:42.8158803;0.3192769
X-APPLE-STRUCTURED-LOCATION;VALUE=URI;X-ADDRESS=marché de Saint-Lary-Soulan Place du téléphérique Saint-Lary-Soulan 65170 France;X-APPLE-RADIUS=500;X-TITLE=Place du téléphérique:geo:0.3192769,42.8158803
END:VEVENT
BEGIN:VEVENT
DTSTART;TZID=Europe/Paris:20260606T080000
DTEND;TZID=Europe/Paris:20260606T130000
DTSTAMP:20260423T092259
CREATED:20221226T084326Z
LAST-MODIFIED:20250123T093137Z
UID:10002845-1780732800-1780750800@www.herbae.fr
SUMMARY:Marché de Bagnères-de-Bigorre
DESCRIPTION:
URL:https://www.herbae.fr/evenement/marche-de-bagneres-de-bigorre/2026-06-06/
LOCATION:Marché de Bagnères-de-Bigorre\, Rue du 19 mars 1962\, Bagnères-de-Bigorre\, 65200\, France
CATEGORIES:Marché Hautes-Pyrénées,Marchés d'été
ATTACH;FMTTYPE=image/jpeg:https://www.herbae.fr/wp-content/uploads/2022/12/Marche-de-Bagneres-de-Bigorre-Samedi-Matin-8h-13h.jpg
GEO:43.1260823;0.106357
X-APPLE-STRUCTURED-LOCATION;VALUE=URI;X-ADDRESS=Marché de Bagnères-de-Bigorre Rue du 19 mars 1962 Bagnères-de-Bigorre 65200 France;X-APPLE-RADIUS=500;X-TITLE=Rue du 19 mars 1962:geo:0.106357,43.1260823
END:VEVENT
BEGIN:VEVENT
DTSTART;TZID=Europe/Paris:20260606T080000
DTEND;TZID=Europe/Paris:20260606T130000
DTSTAMP:20260423T092259
CREATED:20230414T094744Z
LAST-MODIFIED:20250716T093244Z
UID:10006053-1780732800-1780750800@www.herbae.fr
SUMMARY:Marché de Saint-Lary-Soulan
DESCRIPTION:
URL:https://www.herbae.fr/evenement/marche-de-saint-lary-soulan-2/2026-06-06/
LOCATION:marché de Saint-Lary-Soulan\, Place du téléphérique\, Saint-Lary-Soulan\, 65170\, France
CATEGORIES:Marché Hautes-Pyrénées,Marchés d'été
ATTACH;FMTTYPE=image/jpeg:https://www.herbae.fr/wp-content/uploads/2023/04/Design-sans-titre.jpg
GEO:42.8158803;0.3192769
X-APPLE-STRUCTURED-LOCATION;VALUE=URI;X-ADDRESS=marché de Saint-Lary-Soulan Place du téléphérique Saint-Lary-Soulan 65170 France;X-APPLE-RADIUS=500;X-TITLE=Place du téléphérique:geo:0.3192769,42.8158803
END:VEVENT
BEGIN:VEVENT
DTSTART;TZID=Europe/Paris:20260613T080000
DTEND;TZID=Europe/Paris:20260613T130000
DTSTAMP:20260423T092259
CREATED:20221226T084326Z
LAST-MODIFIED:20250123T093137Z
UID:10002846-1781337600-1781355600@www.herbae.fr
SUMMARY:Marché de Bagnères-de-Bigorre
DESCRIPTION:
URL:https://www.herbae.fr/evenement/marche-de-bagneres-de-bigorre/2026-06-13/
LOCATION:Marché de Bagnères-de-Bigorre\, Rue du 19 mars 1962\, Bagnères-de-Bigorre\, 65200\, France
CATEGORIES:Marché Hautes-Pyrénées,Marchés d'été
ATTACH;FMTTYPE=image/jpeg:https://www.herbae.fr/wp-content/uploads/2022/12/Marche-de-Bagneres-de-Bigorre-Samedi-Matin-8h-13h.jpg
GEO:43.1260823;0.106357
X-APPLE-STRUCTURED-LOCATION;VALUE=URI;X-ADDRESS=Marché de Bagnères-de-Bigorre Rue du 19 mars 1962 Bagnères-de-Bigorre 65200 France;X-APPLE-RADIUS=500;X-TITLE=Rue du 19 mars 1962:geo:0.106357,43.1260823
END:VEVENT
BEGIN:VEVENT
DTSTART;TZID=Europe/Paris:20260613T080000
DTEND;TZID=Europe/Paris:20260613T130000
DTSTAMP:20260423T092259
CREATED:20230414T094744Z
LAST-MODIFIED:20250716T093244Z
UID:10002611-1781337600-1781355600@www.herbae.fr
SUMMARY:Marché de Saint-Lary-Soulan
DESCRIPTION:
URL:https://www.herbae.fr/evenement/marche-de-saint-lary-soulan-2/2026-06-13/
LOCATION:marché de Saint-Lary-Soulan\, Place du téléphérique\, Saint-Lary-Soulan\, 65170\, France
CATEGORIES:Marché Hautes-Pyrénées,Marchés d'été
ATTACH;FMTTYPE=image/jpeg:https://www.herbae.fr/wp-content/uploads/2023/04/Design-sans-titre.jpg
GEO:42.8158803;0.3192769
X-APPLE-STRUCTURED-LOCATION;VALUE=URI;X-ADDRESS=marché de Saint-Lary-Soulan Place du téléphérique Saint-Lary-Soulan 65170 France;X-APPLE-RADIUS=500;X-TITLE=Place du téléphérique:geo:0.3192769,42.8158803
END:VEVENT
BEGIN:VEVENT
DTSTART;TZID=Europe/Paris:20260620T080000
DTEND;TZID=Europe/Paris:20260620T130000
DTSTAMP:20260423T092259
CREATED:20221226T084326Z
LAST-MODIFIED:20250123T093137Z
UID:10002847-1781942400-1781960400@www.herbae.fr
SUMMARY:Marché de Bagnères-de-Bigorre
DESCRIPTION:
URL:https://www.herbae.fr/evenement/marche-de-bagneres-de-bigorre/2026-06-20/
LOCATION:Marché de Bagnères-de-Bigorre\, Rue du 19 mars 1962\, Bagnères-de-Bigorre\, 65200\, France
CATEGORIES:Marché Hautes-Pyrénées,Marchés d'été
ATTACH;FMTTYPE=image/jpeg:https://www.herbae.fr/wp-content/uploads/2022/12/Marche-de-Bagneres-de-Bigorre-Samedi-Matin-8h-13h.jpg
GEO:43.1260823;0.106357
X-APPLE-STRUCTURED-LOCATION;VALUE=URI;X-ADDRESS=Marché de Bagnères-de-Bigorre Rue du 19 mars 1962 Bagnères-de-Bigorre 65200 France;X-APPLE-RADIUS=500;X-TITLE=Rue du 19 mars 1962:geo:0.106357,43.1260823
END:VEVENT
BEGIN:VEVENT
DTSTART;TZID=Europe/Paris:20260620T080000
DTEND;TZID=Europe/Paris:20260620T130000
DTSTAMP:20260423T092259
CREATED:20230414T094744Z
LAST-MODIFIED:20250716T093244Z
UID:10006054-1781942400-1781960400@www.herbae.fr
SUMMARY:Marché de Saint-Lary-Soulan
DESCRIPTION:
URL:https://www.herbae.fr/evenement/marche-de-saint-lary-soulan-2/2026-06-20/
LOCATION:marché de Saint-Lary-Soulan\, Place du téléphérique\, Saint-Lary-Soulan\, 65170\, France
CATEGORIES:Marché Hautes-Pyrénées,Marchés d'été
ATTACH;FMTTYPE=image/jpeg:https://www.herbae.fr/wp-content/uploads/2023/04/Design-sans-titre.jpg
GEO:42.8158803;0.3192769
X-APPLE-STRUCTURED-LOCATION;VALUE=URI;X-ADDRESS=marché de Saint-Lary-Soulan Place du téléphérique Saint-Lary-Soulan 65170 France;X-APPLE-RADIUS=500;X-TITLE=Place du téléphérique:geo:0.3192769,42.8158803
END:VEVENT
BEGIN:VEVENT
DTSTART;TZID=Europe/Paris:20260627T080000
DTEND;TZID=Europe/Paris:20260627T130000
DTSTAMP:20260423T092259
CREATED:20221226T084326Z
LAST-MODIFIED:20250123T093137Z
UID:10002848-1782547200-1782565200@www.herbae.fr
SUMMARY:Marché de Bagnères-de-Bigorre
DESCRIPTION:
URL:https://www.herbae.fr/evenement/marche-de-bagneres-de-bigorre/2026-06-27/
LOCATION:Marché de Bagnères-de-Bigorre\, Rue du 19 mars 1962\, Bagnères-de-Bigorre\, 65200\, France
CATEGORIES:Marché Hautes-Pyrénées,Marchés d'été
ATTACH;FMTTYPE=image/jpeg:https://www.herbae.fr/wp-content/uploads/2022/12/Marche-de-Bagneres-de-Bigorre-Samedi-Matin-8h-13h.jpg
GEO:43.1260823;0.106357
X-APPLE-STRUCTURED-LOCATION;VALUE=URI;X-ADDRESS=Marché de Bagnères-de-Bigorre Rue du 19 mars 1962 Bagnères-de-Bigorre 65200 France;X-APPLE-RADIUS=500;X-TITLE=Rue du 19 mars 1962:geo:0.106357,43.1260823
END:VEVENT
BEGIN:VEVENT
DTSTART;TZID=Europe/Paris:20260627T080000
DTEND;TZID=Europe/Paris:20260627T130000
DTSTAMP:20260423T092259
CREATED:20230414T094744Z
LAST-MODIFIED:20250716T093244Z
UID:10002613-1782547200-1782565200@www.herbae.fr
SUMMARY:Marché de Saint-Lary-Soulan
DESCRIPTION:
URL:https://www.herbae.fr/evenement/marche-de-saint-lary-soulan-2/2026-06-27/
LOCATION:marché de Saint-Lary-Soulan\, Place du téléphérique\, Saint-Lary-Soulan\, 65170\, France
CATEGORIES:Marché Hautes-Pyrénées,Marchés d'été
ATTACH;FMTTYPE=image/jpeg:https://www.herbae.fr/wp-content/uploads/2023/04/Design-sans-titre.jpg
GEO:42.8158803;0.3192769
X-APPLE-STRUCTURED-LOCATION;VALUE=URI;X-ADDRESS=marché de Saint-Lary-Soulan Place du téléphérique Saint-Lary-Soulan 65170 France;X-APPLE-RADIUS=500;X-TITLE=Place du téléphérique:geo:0.3192769,42.8158803
END:VEVENT
BEGIN:VEVENT
DTSTART;TZID=Europe/Paris:20260704T080000
DTEND;TZID=Europe/Paris:20260704T130000
DTSTAMP:20260423T092259
CREATED:20221226T084326Z
LAST-MODIFIED:20250123T093137Z
UID:10002849-1783152000-1783170000@www.herbae.fr
SUMMARY:Marché de Bagnères-de-Bigorre
DESCRIPTION:
URL:https://www.herbae.fr/evenement/marche-de-bagneres-de-bigorre/2026-07-04/
LOCATION:Marché de Bagnères-de-Bigorre\, Rue du 19 mars 1962\, Bagnères-de-Bigorre\, 65200\, France
CATEGORIES:Marché Hautes-Pyrénées,Marchés d'été
ATTACH;FMTTYPE=image/jpeg:https://www.herbae.fr/wp-content/uploads/2022/12/Marche-de-Bagneres-de-Bigorre-Samedi-Matin-8h-13h.jpg
GEO:43.1260823;0.106357
X-APPLE-STRUCTURED-LOCATION;VALUE=URI;X-ADDRESS=Marché de Bagnères-de-Bigorre Rue du 19 mars 1962 Bagnères-de-Bigorre 65200 France;X-APPLE-RADIUS=500;X-TITLE=Rue du 19 mars 1962:geo:0.106357,43.1260823
END:VEVENT
BEGIN:VEVENT
DTSTART;TZID=Europe/Paris:20260704T080000
DTEND;TZID=Europe/Paris:20260704T130000
DTSTAMP:20260423T092259
CREATED:20230414T094744Z
LAST-MODIFIED:20250716T093244Z
UID:10006055-1783152000-1783170000@www.herbae.fr
SUMMARY:Marché de Saint-Lary-Soulan
DESCRIPTION:
URL:https://www.herbae.fr/evenement/marche-de-saint-lary-soulan-2/2026-07-04/
LOCATION:marché de Saint-Lary-Soulan\, Place du téléphérique\, Saint-Lary-Soulan\, 65170\, France
CATEGORIES:Marché Hautes-Pyrénées,Marchés d'été
ATTACH;FMTTYPE=image/jpeg:https://www.herbae.fr/wp-content/uploads/2023/04/Design-sans-titre.jpg
GEO:42.8158803;0.3192769
X-APPLE-STRUCTURED-LOCATION;VALUE=URI;X-ADDRESS=marché de Saint-Lary-Soulan Place du téléphérique Saint-Lary-Soulan 65170 France;X-APPLE-RADIUS=500;X-TITLE=Place du téléphérique:geo:0.3192769,42.8158803
END:VEVENT
BEGIN:VEVENT
DTSTART;TZID=Europe/Paris:20260711T080000
DTEND;TZID=Europe/Paris:20260711T130000
DTSTAMP:20260423T092259
CREATED:20221226T084326Z
LAST-MODIFIED:20250123T093137Z
UID:10002850-1783756800-1783774800@www.herbae.fr
SUMMARY:Marché de Bagnères-de-Bigorre
DESCRIPTION:
URL:https://www.herbae.fr/evenement/marche-de-bagneres-de-bigorre/2026-07-11/
LOCATION:Marché de Bagnères-de-Bigorre\, Rue du 19 mars 1962\, Bagnères-de-Bigorre\, 65200\, France
CATEGORIES:Marché Hautes-Pyrénées,Marchés d'été
ATTACH;FMTTYPE=image/jpeg:https://www.herbae.fr/wp-content/uploads/2022/12/Marche-de-Bagneres-de-Bigorre-Samedi-Matin-8h-13h.jpg
GEO:43.1260823;0.106357
X-APPLE-STRUCTURED-LOCATION;VALUE=URI;X-ADDRESS=Marché de Bagnères-de-Bigorre Rue du 19 mars 1962 Bagnères-de-Bigorre 65200 France;X-APPLE-RADIUS=500;X-TITLE=Rue du 19 mars 1962:geo:0.106357,43.1260823
END:VEVENT
BEGIN:VEVENT
DTSTART;TZID=Europe/Paris:20260711T080000
DTEND;TZID=Europe/Paris:20260711T130000
DTSTAMP:20260423T092259
CREATED:20230414T094744Z
LAST-MODIFIED:20250716T093244Z
UID:10002615-1783756800-1783774800@www.herbae.fr
SUMMARY:Marché de Saint-Lary-Soulan
DESCRIPTION:
URL:https://www.herbae.fr/evenement/marche-de-saint-lary-soulan-2/2026-07-11/
LOCATION:marché de Saint-Lary-Soulan\, Place du téléphérique\, Saint-Lary-Soulan\, 65170\, France
CATEGORIES:Marché Hautes-Pyrénées,Marchés d'été
ATTACH;FMTTYPE=image/jpeg:https://www.herbae.fr/wp-content/uploads/2023/04/Design-sans-titre.jpg
GEO:42.8158803;0.3192769
X-APPLE-STRUCTURED-LOCATION;VALUE=URI;X-ADDRESS=marché de Saint-Lary-Soulan Place du téléphérique Saint-Lary-Soulan 65170 France;X-APPLE-RADIUS=500;X-TITLE=Place du téléphérique:geo:0.3192769,42.8158803
END:VEVENT
BEGIN:VEVENT
DTSTART;TZID=Europe/Paris:20260718T080000
DTEND;TZID=Europe/Paris:20260718T130000
DTSTAMP:20260423T092259
CREATED:20221226T084326Z
LAST-MODIFIED:20250123T093137Z
UID:10002851-1784361600-1784379600@www.herbae.fr
SUMMARY:Marché de Bagnères-de-Bigorre
DESCRIPTION:
URL:https://www.herbae.fr/evenement/marche-de-bagneres-de-bigorre/2026-07-18/
LOCATION:Marché de Bagnères-de-Bigorre\, Rue du 19 mars 1962\, Bagnères-de-Bigorre\, 65200\, France
CATEGORIES:Marché Hautes-Pyrénées,Marchés d'été
ATTACH;FMTTYPE=image/jpeg:https://www.herbae.fr/wp-content/uploads/2022/12/Marche-de-Bagneres-de-Bigorre-Samedi-Matin-8h-13h.jpg
GEO:43.1260823;0.106357
X-APPLE-STRUCTURED-LOCATION;VALUE=URI;X-ADDRESS=Marché de Bagnères-de-Bigorre Rue du 19 mars 1962 Bagnères-de-Bigorre 65200 France;X-APPLE-RADIUS=500;X-TITLE=Rue du 19 mars 1962:geo:0.106357,43.1260823
END:VEVENT
BEGIN:VEVENT
DTSTART;TZID=Europe/Paris:20260718T080000
DTEND;TZID=Europe/Paris:20260718T130000
DTSTAMP:20260423T092259
CREATED:20230414T094744Z
LAST-MODIFIED:20250716T093244Z
UID:10006056-1784361600-1784379600@www.herbae.fr
SUMMARY:Marché de Saint-Lary-Soulan
DESCRIPTION:
URL:https://www.herbae.fr/evenement/marche-de-saint-lary-soulan-2/2026-07-18/
LOCATION:marché de Saint-Lary-Soulan\, Place du téléphérique\, Saint-Lary-Soulan\, 65170\, France
CATEGORIES:Marché Hautes-Pyrénées,Marchés d'été
ATTACH;FMTTYPE=image/jpeg:https://www.herbae.fr/wp-content/uploads/2023/04/Design-sans-titre.jpg
GEO:42.8158803;0.3192769
X-APPLE-STRUCTURED-LOCATION;VALUE=URI;X-ADDRESS=marché de Saint-Lary-Soulan Place du téléphérique Saint-Lary-Soulan 65170 France;X-APPLE-RADIUS=500;X-TITLE=Place du téléphérique:geo:0.3192769,42.8158803
END:VEVENT
BEGIN:VEVENT
DTSTART;TZID=Europe/Paris:20260725T080000
DTEND;TZID=Europe/Paris:20260725T130000
DTSTAMP:20260423T092259
CREATED:20221226T084326Z
LAST-MODIFIED:20250123T093137Z
UID:10002852-1784966400-1784984400@www.herbae.fr
SUMMARY:Marché de Bagnères-de-Bigorre
DESCRIPTION:
URL:https://www.herbae.fr/evenement/marche-de-bagneres-de-bigorre/2026-07-25/
LOCATION:Marché de Bagnères-de-Bigorre\, Rue du 19 mars 1962\, Bagnères-de-Bigorre\, 65200\, France
CATEGORIES:Marché Hautes-Pyrénées,Marchés d'été
ATTACH;FMTTYPE=image/jpeg:https://www.herbae.fr/wp-content/uploads/2022/12/Marche-de-Bagneres-de-Bigorre-Samedi-Matin-8h-13h.jpg
GEO:43.1260823;0.106357
X-APPLE-STRUCTURED-LOCATION;VALUE=URI;X-ADDRESS=Marché de Bagnères-de-Bigorre Rue du 19 mars 1962 Bagnères-de-Bigorre 65200 France;X-APPLE-RADIUS=500;X-TITLE=Rue du 19 mars 1962:geo:0.106357,43.1260823
END:VEVENT
BEGIN:VEVENT
DTSTART;TZID=Europe/Paris:20260725T080000
DTEND;TZID=Europe/Paris:20260725T130000
DTSTAMP:20260423T092259
CREATED:20230414T094744Z
LAST-MODIFIED:20250716T093244Z
UID:10002617-1784966400-1784984400@www.herbae.fr
SUMMARY:Marché de Saint-Lary-Soulan
DESCRIPTION:
URL:https://www.herbae.fr/evenement/marche-de-saint-lary-soulan-2/2026-07-25/
LOCATION:marché de Saint-Lary-Soulan\, Place du téléphérique\, Saint-Lary-Soulan\, 65170\, France
CATEGORIES:Marché Hautes-Pyrénées,Marchés d'été
ATTACH;FMTTYPE=image/jpeg:https://www.herbae.fr/wp-content/uploads/2023/04/Design-sans-titre.jpg
GEO:42.8158803;0.3192769
X-APPLE-STRUCTURED-LOCATION;VALUE=URI;X-ADDRESS=marché de Saint-Lary-Soulan Place du téléphérique Saint-Lary-Soulan 65170 France;X-APPLE-RADIUS=500;X-TITLE=Place du téléphérique:geo:0.3192769,42.8158803
END:VEVENT
BEGIN:VEVENT
DTSTART;TZID=Europe/Paris:20260801T080000
DTEND;TZID=Europe/Paris:20260801T130000
DTSTAMP:20260423T092259
CREATED:20221226T084326Z
LAST-MODIFIED:20250123T093137Z
UID:10002853-1785571200-1785589200@www.herbae.fr
SUMMARY:Marché de Bagnères-de-Bigorre
DESCRIPTION:
URL:https://www.herbae.fr/evenement/marche-de-bagneres-de-bigorre/2026-08-01/
LOCATION:Marché de Bagnères-de-Bigorre\, Rue du 19 mars 1962\, Bagnères-de-Bigorre\, 65200\, France
CATEGORIES:Marché Hautes-Pyrénées,Marchés d'été
ATTACH;FMTTYPE=image/jpeg:https://www.herbae.fr/wp-content/uploads/2022/12/Marche-de-Bagneres-de-Bigorre-Samedi-Matin-8h-13h.jpg
GEO:43.1260823;0.106357
X-APPLE-STRUCTURED-LOCATION;VALUE=URI;X-ADDRESS=Marché de Bagnères-de-Bigorre Rue du 19 mars 1962 Bagnères-de-Bigorre 65200 France;X-APPLE-RADIUS=500;X-TITLE=Rue du 19 mars 1962:geo:0.106357,43.1260823
END:VEVENT
END:VCALENDAR