BEGIN:VCALENDAR
VERSION:2.0
PRODID:-//Herbae, cochons millésimes - ECPv6.15.18//NONSGML v1.0//EN
CALSCALE:GREGORIAN
METHOD:PUBLISH
X-WR-CALNAME:Herbae, cochons millésimes
X-ORIGINAL-URL:https://www.herbae.fr
X-WR-CALDESC:Évènements pour Herbae, cochons millésimes
REFRESH-INTERVAL;VALUE=DURATION:PT1H
X-Robots-Tag:noindex
X-PUBLISHED-TTL:PT1H
BEGIN:VTIMEZONE
TZID:Europe/Paris
BEGIN:DAYLIGHT
TZOFFSETFROM:+0100
TZOFFSETTO:+0200
TZNAME:CEST
DTSTART:20240331T010000
END:DAYLIGHT
BEGIN:STANDARD
TZOFFSETFROM:+0200
TZOFFSETTO:+0100
TZNAME:CET
DTSTART:20241027T010000
END:STANDARD
BEGIN:DAYLIGHT
TZOFFSETFROM:+0100
TZOFFSETTO:+0200
TZNAME:CEST
DTSTART:20250330T010000
END:DAYLIGHT
BEGIN:STANDARD
TZOFFSETFROM:+0200
TZOFFSETTO:+0100
TZNAME:CET
DTSTART:20251026T010000
END:STANDARD
BEGIN:DAYLIGHT
TZOFFSETFROM:+0100
TZOFFSETTO:+0200
TZNAME:CEST
DTSTART:20260329T010000
END:DAYLIGHT
BEGIN:STANDARD
TZOFFSETFROM:+0200
TZOFFSETTO:+0100
TZNAME:CET
DTSTART:20261025T010000
END:STANDARD
END:VTIMEZONE
BEGIN:VEVENT
DTSTART;TZID=Europe/Paris:20250603T160000
DTEND;TZID=Europe/Paris:20250603T200000
DTSTAMP:20260420T051039
CREATED:20240816T091848Z
LAST-MODIFIED:20250716T131051Z
UID:10005365-1748966400-1748980800@www.herbae.fr
SUMMARY:Marché de Campan
DESCRIPTION:
URL:https://www.herbae.fr/evenement/marche-de-campan/2025-06-03/
LOCATION:Aux délices de Nanou\, Nabaillet\, Campan\, Hautes-Pyrénées\, 65710\, France
CATEGORIES:Marchés d'été
GEO:42.9916557;0.2236256
X-APPLE-STRUCTURED-LOCATION;VALUE=URI;X-ADDRESS=Aux délices de Nanou Nabaillet Campan Hautes-Pyrénées 65710 France;X-APPLE-RADIUS=500;X-TITLE=Nabaillet:geo:0.2236256,42.9916557
END:VEVENT
BEGIN:VEVENT
DTSTART;TZID=Europe/Paris:20250610T160000
DTEND;TZID=Europe/Paris:20250610T200000
DTSTAMP:20260420T051039
CREATED:20240816T091848Z
LAST-MODIFIED:20250716T131051Z
UID:10005366-1749571200-1749585600@www.herbae.fr
SUMMARY:Marché de Campan
DESCRIPTION:
URL:https://www.herbae.fr/evenement/marche-de-campan/2025-06-10/
LOCATION:Aux délices de Nanou\, Nabaillet\, Campan\, Hautes-Pyrénées\, 65710\, France
CATEGORIES:Marchés d'été
GEO:42.9916557;0.2236256
X-APPLE-STRUCTURED-LOCATION;VALUE=URI;X-ADDRESS=Aux délices de Nanou Nabaillet Campan Hautes-Pyrénées 65710 France;X-APPLE-RADIUS=500;X-TITLE=Nabaillet:geo:0.2236256,42.9916557
END:VEVENT
BEGIN:VEVENT
DTSTART;TZID=Europe/Paris:20250617T160000
DTEND;TZID=Europe/Paris:20250617T200000
DTSTAMP:20260420T051039
CREATED:20240816T091848Z
LAST-MODIFIED:20250716T131051Z
UID:10005367-1750176000-1750190400@www.herbae.fr
SUMMARY:Marché de Campan
DESCRIPTION:
URL:https://www.herbae.fr/evenement/marche-de-campan/2025-06-17/
LOCATION:Aux délices de Nanou\, Nabaillet\, Campan\, Hautes-Pyrénées\, 65710\, France
CATEGORIES:Marchés d'été
GEO:42.9916557;0.2236256
X-APPLE-STRUCTURED-LOCATION;VALUE=URI;X-ADDRESS=Aux délices de Nanou Nabaillet Campan Hautes-Pyrénées 65710 France;X-APPLE-RADIUS=500;X-TITLE=Nabaillet:geo:0.2236256,42.9916557
END:VEVENT
BEGIN:VEVENT
DTSTART;TZID=Europe/Paris:20250624T160000
DTEND;TZID=Europe/Paris:20250624T200000
DTSTAMP:20260420T051039
CREATED:20240816T091848Z
LAST-MODIFIED:20250716T131051Z
UID:10005368-1750780800-1750795200@www.herbae.fr
SUMMARY:Marché de Campan
DESCRIPTION:
URL:https://www.herbae.fr/evenement/marche-de-campan/2025-06-24/
LOCATION:Aux délices de Nanou\, Nabaillet\, Campan\, Hautes-Pyrénées\, 65710\, France
CATEGORIES:Marchés d'été
GEO:42.9916557;0.2236256
X-APPLE-STRUCTURED-LOCATION;VALUE=URI;X-ADDRESS=Aux délices de Nanou Nabaillet Campan Hautes-Pyrénées 65710 France;X-APPLE-RADIUS=500;X-TITLE=Nabaillet:geo:0.2236256,42.9916557
END:VEVENT
END:VCALENDAR