BEGIN:VCALENDAR
VERSION:2.0
PRODID:-//Herbae, cochons millésimes - ECPv6.15.18//NONSGML v1.0//EN
CALSCALE:GREGORIAN
METHOD:PUBLISH
X-WR-CALNAME:Herbae, cochons millésimes
X-ORIGINAL-URL:https://www.herbae.fr
X-WR-CALDESC:Évènements pour Herbae, cochons millésimes
REFRESH-INTERVAL;VALUE=DURATION:PT1H
X-Robots-Tag:noindex
X-PUBLISHED-TTL:PT1H
BEGIN:VTIMEZONE
TZID:Europe/Paris
BEGIN:DAYLIGHT
TZOFFSETFROM:+0100
TZOFFSETTO:+0200
TZNAME:CEST
DTSTART:20240331T010000
END:DAYLIGHT
BEGIN:STANDARD
TZOFFSETFROM:+0200
TZOFFSETTO:+0100
TZNAME:CET
DTSTART:20241027T010000
END:STANDARD
BEGIN:DAYLIGHT
TZOFFSETFROM:+0100
TZOFFSETTO:+0200
TZNAME:CEST
DTSTART:20250330T010000
END:DAYLIGHT
BEGIN:STANDARD
TZOFFSETFROM:+0200
TZOFFSETTO:+0100
TZNAME:CET
DTSTART:20251026T010000
END:STANDARD
BEGIN:DAYLIGHT
TZOFFSETFROM:+0100
TZOFFSETTO:+0200
TZNAME:CEST
DTSTART:20260329T010000
END:DAYLIGHT
BEGIN:STANDARD
TZOFFSETFROM:+0200
TZOFFSETTO:+0100
TZNAME:CET
DTSTART:20261025T010000
END:STANDARD
END:VTIMEZONE
BEGIN:VEVENT
DTSTART;TZID=Europe/Paris:20250401T160000
DTEND;TZID=Europe/Paris:20250401T200000
DTSTAMP:20260420T085104
CREATED:20240816T091848Z
LAST-MODIFIED:20250716T131051Z
UID:10005356-1743523200-1743537600@www.herbae.fr
SUMMARY:Marché de Campan
DESCRIPTION:
URL:https://www.herbae.fr/evenement/marche-de-campan/2025-04-01/
LOCATION:Aux délices de Nanou\, Nabaillet\, Campan\, Hautes-Pyrénées\, 65710\, France
CATEGORIES:Marchés d'été
GEO:42.9916557;0.2236256
X-APPLE-STRUCTURED-LOCATION;VALUE=URI;X-ADDRESS=Aux délices de Nanou Nabaillet Campan Hautes-Pyrénées 65710 France;X-APPLE-RADIUS=500;X-TITLE=Nabaillet:geo:0.2236256,42.9916557
END:VEVENT
BEGIN:VEVENT
DTSTART;TZID=Europe/Paris:20250408T160000
DTEND;TZID=Europe/Paris:20250408T200000
DTSTAMP:20260420T085104
CREATED:20240816T091848Z
LAST-MODIFIED:20250716T131051Z
UID:10005357-1744128000-1744142400@www.herbae.fr
SUMMARY:Marché de Campan
DESCRIPTION:
URL:https://www.herbae.fr/evenement/marche-de-campan/2025-04-08/
LOCATION:Aux délices de Nanou\, Nabaillet\, Campan\, Hautes-Pyrénées\, 65710\, France
CATEGORIES:Marchés d'été
GEO:42.9916557;0.2236256
X-APPLE-STRUCTURED-LOCATION;VALUE=URI;X-ADDRESS=Aux délices de Nanou Nabaillet Campan Hautes-Pyrénées 65710 France;X-APPLE-RADIUS=500;X-TITLE=Nabaillet:geo:0.2236256,42.9916557
END:VEVENT
BEGIN:VEVENT
DTSTART;TZID=Europe/Paris:20250415T160000
DTEND;TZID=Europe/Paris:20250415T200000
DTSTAMP:20260420T085104
CREATED:20240816T091848Z
LAST-MODIFIED:20250716T131051Z
UID:10005358-1744732800-1744747200@www.herbae.fr
SUMMARY:Marché de Campan
DESCRIPTION:
URL:https://www.herbae.fr/evenement/marche-de-campan/2025-04-15/
LOCATION:Aux délices de Nanou\, Nabaillet\, Campan\, Hautes-Pyrénées\, 65710\, France
CATEGORIES:Marchés d'été
GEO:42.9916557;0.2236256
X-APPLE-STRUCTURED-LOCATION;VALUE=URI;X-ADDRESS=Aux délices de Nanou Nabaillet Campan Hautes-Pyrénées 65710 France;X-APPLE-RADIUS=500;X-TITLE=Nabaillet:geo:0.2236256,42.9916557
END:VEVENT
BEGIN:VEVENT
DTSTART;TZID=Europe/Paris:20250422T160000
DTEND;TZID=Europe/Paris:20250422T200000
DTSTAMP:20260420T085104
CREATED:20240816T091848Z
LAST-MODIFIED:20250716T131051Z
UID:10005359-1745337600-1745352000@www.herbae.fr
SUMMARY:Marché de Campan
DESCRIPTION:
URL:https://www.herbae.fr/evenement/marche-de-campan/2025-04-22/
LOCATION:Aux délices de Nanou\, Nabaillet\, Campan\, Hautes-Pyrénées\, 65710\, France
CATEGORIES:Marchés d'été
GEO:42.9916557;0.2236256
X-APPLE-STRUCTURED-LOCATION;VALUE=URI;X-ADDRESS=Aux délices de Nanou Nabaillet Campan Hautes-Pyrénées 65710 France;X-APPLE-RADIUS=500;X-TITLE=Nabaillet:geo:0.2236256,42.9916557
END:VEVENT
BEGIN:VEVENT
DTSTART;TZID=Europe/Paris:20250429T160000
DTEND;TZID=Europe/Paris:20250429T200000
DTSTAMP:20260420T085104
CREATED:20240816T091848Z
LAST-MODIFIED:20250716T131051Z
UID:10005360-1745942400-1745956800@www.herbae.fr
SUMMARY:Marché de Campan
DESCRIPTION:
URL:https://www.herbae.fr/evenement/marche-de-campan/2025-04-29/
LOCATION:Aux délices de Nanou\, Nabaillet\, Campan\, Hautes-Pyrénées\, 65710\, France
CATEGORIES:Marchés d'été
GEO:42.9916557;0.2236256
X-APPLE-STRUCTURED-LOCATION;VALUE=URI;X-ADDRESS=Aux délices de Nanou Nabaillet Campan Hautes-Pyrénées 65710 France;X-APPLE-RADIUS=500;X-TITLE=Nabaillet:geo:0.2236256,42.9916557
END:VEVENT
END:VCALENDAR