BEGIN:VCALENDAR
VERSION:2.0
PRODID:-//Herbae, cochons millésimes - ECPv6.15.20//NONSGML v1.0//EN
CALSCALE:GREGORIAN
METHOD:PUBLISH
X-ORIGINAL-URL:https://www.herbae.fr
X-WR-CALDESC:Évènements pour Herbae, cochons millésimes
REFRESH-INTERVAL;VALUE=DURATION:PT1H
X-Robots-Tag:noindex
X-PUBLISHED-TTL:PT1H
BEGIN:VTIMEZONE
TZID:Europe/Paris
BEGIN:DAYLIGHT
TZOFFSETFROM:+0100
TZOFFSETTO:+0200
TZNAME:CEST
DTSTART:20230326T010000
END:DAYLIGHT
BEGIN:STANDARD
TZOFFSETFROM:+0200
TZOFFSETTO:+0100
TZNAME:CET
DTSTART:20231029T010000
END:STANDARD
BEGIN:DAYLIGHT
TZOFFSETFROM:+0100
TZOFFSETTO:+0200
TZNAME:CEST
DTSTART:20240331T010000
END:DAYLIGHT
BEGIN:STANDARD
TZOFFSETFROM:+0200
TZOFFSETTO:+0100
TZNAME:CET
DTSTART:20241027T010000
END:STANDARD
BEGIN:DAYLIGHT
TZOFFSETFROM:+0100
TZOFFSETTO:+0200
TZNAME:CEST
DTSTART:20250330T010000
END:DAYLIGHT
BEGIN:STANDARD
TZOFFSETFROM:+0200
TZOFFSETTO:+0100
TZNAME:CET
DTSTART:20251026T010000
END:STANDARD
END:VTIMEZONE
BEGIN:VEVENT
DTSTART;TZID=Europe/Paris:20241203T160000
DTEND;TZID=Europe/Paris:20241203T200000
DTSTAMP:20260422T210256
CREATED:20240816T091848Z
LAST-MODIFIED:20250716T131051Z
UID:10005339-1733241600-1733256000@www.herbae.fr
SUMMARY:Marché de Campan
DESCRIPTION:
URL:https://www.herbae.fr/evenement/marche-de-campan/2024-12-03/
LOCATION:Aux délices de Nanou\, Nabaillet\, Campan\, Hautes-Pyrénées\, 65710\, France
CATEGORIES:Marchés d'été
GEO:42.9916557;0.2236256
X-APPLE-STRUCTURED-LOCATION;VALUE=URI;X-ADDRESS=Aux délices de Nanou Nabaillet Campan Hautes-Pyrénées 65710 France;X-APPLE-RADIUS=500;X-TITLE=Nabaillet:geo:0.2236256,42.9916557
END:VEVENT
BEGIN:VEVENT
DTSTART;TZID=Europe/Paris:20241210T160000
DTEND;TZID=Europe/Paris:20241210T200000
DTSTAMP:20260422T210256
CREATED:20240816T091848Z
LAST-MODIFIED:20250716T131051Z
UID:10005340-1733846400-1733860800@www.herbae.fr
SUMMARY:Marché de Campan
DESCRIPTION:
URL:https://www.herbae.fr/evenement/marche-de-campan/2024-12-10/
LOCATION:Aux délices de Nanou\, Nabaillet\, Campan\, Hautes-Pyrénées\, 65710\, France
CATEGORIES:Marchés d'été
GEO:42.9916557;0.2236256
X-APPLE-STRUCTURED-LOCATION;VALUE=URI;X-ADDRESS=Aux délices de Nanou Nabaillet Campan Hautes-Pyrénées 65710 France;X-APPLE-RADIUS=500;X-TITLE=Nabaillet:geo:0.2236256,42.9916557
END:VEVENT
BEGIN:VEVENT
DTSTART;TZID=Europe/Paris:20241217T160000
DTEND;TZID=Europe/Paris:20241217T200000
DTSTAMP:20260422T210256
CREATED:20240816T091848Z
LAST-MODIFIED:20250716T131051Z
UID:10005341-1734451200-1734465600@www.herbae.fr
SUMMARY:Marché de Campan
DESCRIPTION:
URL:https://www.herbae.fr/evenement/marche-de-campan/2024-12-17/
LOCATION:Aux délices de Nanou\, Nabaillet\, Campan\, Hautes-Pyrénées\, 65710\, France
CATEGORIES:Marchés d'été
GEO:42.9916557;0.2236256
X-APPLE-STRUCTURED-LOCATION;VALUE=URI;X-ADDRESS=Aux délices de Nanou Nabaillet Campan Hautes-Pyrénées 65710 France;X-APPLE-RADIUS=500;X-TITLE=Nabaillet:geo:0.2236256,42.9916557
END:VEVENT
BEGIN:VEVENT
DTSTART;TZID=Europe/Paris:20241224T160000
DTEND;TZID=Europe/Paris:20241224T200000
DTSTAMP:20260422T210256
CREATED:20240816T091848Z
LAST-MODIFIED:20250716T131051Z
UID:10005342-1735056000-1735070400@www.herbae.fr
SUMMARY:Marché de Campan
DESCRIPTION:
URL:https://www.herbae.fr/evenement/marche-de-campan/2024-12-24/
LOCATION:Aux délices de Nanou\, Nabaillet\, Campan\, Hautes-Pyrénées\, 65710\, France
CATEGORIES:Marchés d'été
GEO:42.9916557;0.2236256
X-APPLE-STRUCTURED-LOCATION;VALUE=URI;X-ADDRESS=Aux délices de Nanou Nabaillet Campan Hautes-Pyrénées 65710 France;X-APPLE-RADIUS=500;X-TITLE=Nabaillet:geo:0.2236256,42.9916557
END:VEVENT
BEGIN:VEVENT
DTSTART;TZID=Europe/Paris:20241231T160000
DTEND;TZID=Europe/Paris:20241231T200000
DTSTAMP:20260422T210256
CREATED:20240816T091848Z
LAST-MODIFIED:20250716T131051Z
UID:10005343-1735660800-1735675200@www.herbae.fr
SUMMARY:Marché de Campan
DESCRIPTION:
URL:https://www.herbae.fr/evenement/marche-de-campan/2024-12-31/
LOCATION:Aux délices de Nanou\, Nabaillet\, Campan\, Hautes-Pyrénées\, 65710\, France
CATEGORIES:Marchés d'été
GEO:42.9916557;0.2236256
X-APPLE-STRUCTURED-LOCATION;VALUE=URI;X-ADDRESS=Aux délices de Nanou Nabaillet Campan Hautes-Pyrénées 65710 France;X-APPLE-RADIUS=500;X-TITLE=Nabaillet:geo:0.2236256,42.9916557
END:VEVENT
END:VCALENDAR